BEGIN:VCALENDAR
VERSION:2.0
PRODID:-//ERT//LNF26//DE
VERSION:2.0
BEGIN:VEVENT
UID:station_3752_20260324T153000Z
DTSTAMP:20260420T003100Z
URL:https://ert.langenachtderforschung.at/station/3752
DTSTART:20260324T153000Z
DTEND:20260424T170000Z
SUMMARY:[LNF26] Wie wird Radio und TV gemacht? Vorbeikommen und mitmachen in der Medienwerkstatt Radioigel und IgelTV
DESCRIPTION:Wie sendet man live? Wie viel Technik braucht man? Welche Fragen stellt man den Studiogästen? Und wie kommen die Beiträge von anderen Orten in den Livestream? Wie entsteht eine Live-Sendung mit Bildaufnahmen, Interviews und Videos? All das können die Besucherinnen und Besucher in unserem Radioigel- und IgelTV-Studio entdecken. KinderUniGraz
LOCATION:Hasnerplatz 12, 8010 Graz
GEO:47.08250200;15.43363926
END:VEVENT
END:VCALENDAR