BEGIN:VCALENDAR
VERSION:2.0
PRODID:-//ERT//LNF26//DE
VERSION:2.0
BEGIN:VEVENT
UID:station_3753_20260424T170000Z
DTSTAMP:20260420T003400Z
URL:https://ert.langenachtderforschung.at/station/3753
DTSTART:20260424T170000Z
DTEND:20260424T172500Z
SUMMARY:[LNF26] Mensch trifft Maschine? Die KI-Mitmachstation.
DESCRIPTION:Entdecken Sie die neuesten Features der Künstlichen Intelligenz bei unserer Mitmachstation: Kreieren Sie Bilder, Musik und Videos, entlarven Sie Fakeinhalte und erfahren Sie, wie KI „denkt“ und funktioniert. Themen voller Spannung, Kreativität und Einblicke in die Welt der KI. Starten Sie jetzt Ihr Technologieabenteuer! KinderUniGraz
LOCATION:Hasnerplatz 12, 8010 Graz
GEO:47.08250200;15.43363926
END:VEVENT
END:VCALENDAR