BEGIN:VCALENDAR
VERSION:2.0
PRODID:-//ERT//LNF26//DE
VERSION:2.0
BEGIN:VEVENT
UID:station_3756_20260324T160000Z
DTSTAMP:20260420T003200Z
URL:https://ert.langenachtderforschung.at/station/3756
DTSTART:20260324T160000Z
DTEND:20260424T200000Z
SUMMARY:[LNF26] Wie kommt Mathe in meinen Kopf? KinderUniGraz
DESCRIPTION:Was erwartet Sie? Spannende Experimente, Mathematik zum Anfassen, echte Probleme, die gelöst werden wollen, und spannende Spiele mit mathematischem Hintergrund. Und das alles im phi-room, der Hochschullernwerkstatt für Mathematik an der PHSt. Studierende der PHSt bereiten gemeinsam mit ihren Lehrenden aus dem Fachbereich Mathematik eine Lernumgebung für forschende und entdeckende Mathematik vor.
LOCATION:Hasnerplatz 12, 8010 Graz
GEO:47.08250200;15.43363926
END:VEVENT
END:VCALENDAR