BEGIN:VCALENDAR
VERSION:2.0
PRODID:-//ERT//LNF26//DE
VERSION:2.0
BEGIN:VEVENT
UID:station_3759_20260324T160000Z
DTSTAMP:20260420T020600Z
URL:https://ert.langenachtderforschung.at/station/3759
DTSTART:20260324T160000Z
DTEND:20260424T170000Z
SUMMARY:[LNF26] Wie entstehen Farben und warum sind sie manchmal sichtbar und manchmal nicht? KinderUniGraz
DESCRIPTION:Im farbenfrohen Klassenraum werden spannende Experimente rund um Farben, Licht und Wahrnehmung lebendig. An abwechslungsreichen Mitmachstationen entdecken Kinder, wie aus scheinbar einfachen Materialien faszinierende Effekte entstehen – von der Chromatografie bis zu überraschenden Farb- und Lichtphänomenen. Gemeinsam wird ausprobiert, beobachtet, gestaunt und erklärt. Kinder erleben wissenschaftliches Arbeiten.
LOCATION:Hasnerplatz 12, 8010 Graz
GEO:47.08250200;15.43363926
END:VEVENT
END:VCALENDAR