BEGIN:VCALENDAR
VERSION:2.0
PRODID:-//ERT//LNF26//DE
VERSION:2.0
BEGIN:VEVENT
UID:station_3775_20260324T160000Z
DTSTAMP:20260420T020400Z
URL:https://ert.langenachtderforschung.at/station/3775
DTSTART:20260324T160000Z
DTEND:20260424T200000Z
SUMMARY:[LNF26] Bauen bald Roboter unsere Batterien zusammen?
DESCRIPTION:Im Battery Innovation Center wird ausprobiert, wie Batterien automatisch zusammengebaut werden können – gemeinsam arbeiten hier Menschen, humanoide Roboter und Roboterarme auch daran, wie aus alten Batterien wertvolle Rohstoffe oder Einzelteile fürs Recycling gewonnen werden können.
LOCATION:Kopernikusgasse 24, 8010 Graz
GEO:47.06494851;15.45095623
END:VEVENT
END:VCALENDAR