BEGIN:VCALENDAR
VERSION:2.0
PRODID:-//ERT//LNF26//DE
VERSION:2.0
BEGIN:VEVENT
UID:station_3778_20260324T160000Z
DTSTAMP:20260420T003100Z
URL:https://ert.langenachtderforschung.at/station/3778
DTSTART:20260324T160000Z
DTEND:20260424T200000Z
SUMMARY:[LNF26] Weckt das Lesen von Literatur Superkräfte? KinderUniGraz
DESCRIPTION:Lesen ist eine echte Superkraft und macht uns fit für den Alltag. Wer Literatur liest, vervielfältigt diese Superkraft. Warum? Weil Literatur Türen in magische Welten öffnet, Gedankenexperimente anschubst und klug macht; weil Literatur spannend, abenteuerlich, traurig, rätselhaft und einfach schön ist. Wer Literatur liest und genießt, kann richtig viel. Was genau, verrät der Rundgang zum literarischen Lernen.
LOCATION:Hasnerplatz 12, 8010 Graz
GEO:47.08250200;15.43363926
END:VEVENT
END:VCALENDAR