BEGIN:VCALENDAR
VERSION:2.0
PRODID:-//ERT//LNF26//DE
VERSION:2.0
BEGIN:VEVENT
UID:station_3787_20260324T170000Z
DTSTAMP:20260420T020400Z
URL:https://ert.langenachtderforschung.at/station/3787
DTSTART:20260324T170000Z
DTEND:20260424T190000Z
SUMMARY:[LNF26] Wie gut sind meine motorischen Basiskompetenzen und meine Leistungsfähigkeit? KinderUniGraz
DESCRIPTION:Bei uns erleben Kinder Bewegung hautnah: An abwechslungsreichen Mitmachstationen erproben sie ihre motorische Basiskompetenzen und ihre Leistungsfähigkeit und schätzen diese vor den Tests selbst ein. Angeboten werden ausgewählte Stationen aus dem Deutschen Motoriktest (DMT) und MOBAK. Studierende und Lehrende zeigen, wie motorische Fähigkeiten und Kompetenzen erfasst werden und was aktuelle Forschung dazu zeigt.
LOCATION:Hasnerplatz 12, 8010 Graz
GEO:47.08250200;15.43363926
END:VEVENT
END:VCALENDAR