BEGIN:VCALENDAR
VERSION:2.0
PRODID:-//ERT//LNF26//DE
VERSION:2.0
BEGIN:VEVENT
UID:station_3789_20260324T160000Z
DTSTAMP:20260420T003100Z
URL:https://ert.langenachtderforschung.at/station/3789
DTSTART:20260324T160000Z
DTEND:20260424T200000Z
SUMMARY:[LNF26] Einmal getauscht: Ändert das Ihren Blick?
DESCRIPTION:Im Digital Learning Lab for Inclusion erwarten Sie interaktive Stationen zu Alltagsbarrieren. Durch Perspektivenwechsel, Technik und eigene Erfahrungen können Sie erleben, wie unterschiedlich der Alltag wahrgenommen wird – und was es heißt, Hindernisse aus einer anderen Sicht zu sehen. Spannend und verständlich für Erwachsene sowie Schüler*innen aller Altersstufen. KinderUniGraz
LOCATION:Dürergasse 2, 8010 Graz
GEO:47.07599160;15.45811028
END:VEVENT
END:VCALENDAR