BEGIN:VCALENDAR
VERSION:2.0
PRODID:-//ERT//LNF26//DE
VERSION:2.0
BEGIN:VEVENT
UID:station_3796_20260324T160000Z
DTSTAMP:20260421T180300Z
URL:https://ert.langenachtderforschung.at/station/3796
DTSTART:20260324T160000Z
DTEND:20260424T210000Z
SUMMARY:[LNF26] Was kann Licht und warum ist es Hightech?
DESCRIPTION:Tauchen Sie ein in die faszinierende Welt des Lichts! Erfahren Sie, wie winzige optische Elemente in Smartphones, AR/VR‑Brillen und modernen Fahrzeugsystemen funktionieren. Bei EVG entwickeln wir die Maschinen, mit denen diese kleinen, aber entscheidenden Bauteile hergestellt werden.
LOCATION:DI Erich Thallner Straße 1, 4782 St. Florian am Inn
GEO:48.43049621;13.44500721
END:VEVENT
END:VCALENDAR