BEGIN:VCALENDAR
VERSION:2.0
PRODID:-//ERT//LNF26//DE
VERSION:2.0
BEGIN:VEVENT
UID:station_3809_20260324T160000Z
DTSTAMP:20260419T210900Z
URL:https://ert.langenachtderforschung.at/station/3809
DTSTART:20260324T160000Z
DTEND:20260424T200000Z
SUMMARY:[LNF26] Wie erkennt künstliche Intelligenz Prozesszustände – und wie wird aus Biomasse ein besserer Brennstoff?
DESCRIPTION:Anhand unseres Aquarium-Modells zeigen wir, wie das KI-basierte Messsystem ARGOS mithilfe optischer Erkennung reale Prozesszustände erkennt. ARGOS überwacht und bewertet die Qualität von Flüssigkeitsströmen in industriellen Abwasseranlagen und optimiert diese automatisch. Zusätzlich zeigen wir in der Feuerschale, wie unser torrefizierter Brennstoff nachhaltige Hitze erzeugt.
LOCATION:Andritzer Reichsstraße 68B Halle F1 &amp; F3, 8045 Graz
GEO:47.10774894;15.41774109
END:VEVENT
END:VCALENDAR