BEGIN:VCALENDAR
VERSION:2.0
PRODID:-//ERT//LNF26//DE
VERSION:2.0
BEGIN:VEVENT
UID:station_3843_20260324T160000Z
DTSTAMP:20260420T211000Z
URL:https://ert.langenachtderforschung.at/station/3843
DTSTART:20260324T160000Z
DTEND:20260424T210000Z
SUMMARY:[LNF26] Von Stadel zu Stadel – quer durch Niederösterreich per Rad!
DESCRIPTION:Studierende der NDU untersuchten leerstehende Stadel und deren Potenzial als räumliche Ressource für sanften Tourismus im Wein- und Waldviertel. Dabei entwarfen sie Mikroarchitekturen für temporäres Wohnen, Nahversorgung und Gemeinschaft und denken den Stadel als vernetztes, zukunftsfähiges Raumlabor weiter.
LOCATION:Kulturbezirk 5, 3100 St. Pölten
GEO:48.20026944;15.63139111
END:VEVENT
END:VCALENDAR