BEGIN:VCALENDAR
VERSION:2.0
PRODID:-//ERT//LNF26//DE
VERSION:2.0
BEGIN:VEVENT
UID:station_3861_20260324T160000Z
DTSTAMP:20260421T081400Z
URL:https://ert.langenachtderforschung.at/station/3861
DTSTART:20260324T160000Z
DTEND:20260424T210000Z
SUMMARY:[LNF26] Public Health - Entscheidungen leicht gemacht?
DESCRIPTION:Public Health ist die Wissenschaft und Praxis, die sich mit der Prävention und Kontrolle von Krankheiten, Verletzungen und Verhaltensstörungen sowie mit der Förderung der Gesundheit und des Wohlbefindens der Bevölkerung befasst. Decision Science, ein wichtiger Aspekt der Public Health Forschung, nutzt wissenschaftliche Methoden, um die Entscheidungsfindungen im Gesundheitswesen zu verstehen und zu optimieren.
LOCATION:Eduard-Wallnöfer-Zentrum 1, 6060 Hall in Tirol
GEO:47.28386550;11.51740640
END:VEVENT
END:VCALENDAR