BEGIN:VCALENDAR
VERSION:2.0
PRODID:-//ERT//LNF26//DE
VERSION:2.0
BEGIN:VEVENT
UID:station_3888_20260324T160000Z
DTSTAMP:20260420T040700Z
URL:https://ert.langenachtderforschung.at/station/3888
DTSTART:20260324T160000Z
DTEND:20260424T210000Z
SUMMARY:[LNF26] Wie werden Nutzfahrzeuge für morgen entwickelt?
DESCRIPTION:Neue Mobilitätskonzepte bringen komplexe Anforderungen mit sich – von elektrifizierten Antrieben über vernetzte Fahrzeugsysteme bis hin zu automatisierten Funktionen. Wir begleiten den gesamten Entwicklungsprozess – vom ersten Prototypen bis zum serienreifen Fahrzeug.
LOCATION:Im Stadtgut Zone E4, 4407 Steyr-Gleink
GEO:48.07525283;14.42745625
END:VEVENT
END:VCALENDAR