BEGIN:VCALENDAR
VERSION:2.0
PRODID:-//ERT//LNF26//DE
VERSION:2.0
BEGIN:VEVENT
UID:station_3889_20260324T160000Z
DTSTAMP:20260420T042100Z
URL:https://ert.langenachtderforschung.at/station/3889
DTSTART:20260324T160000Z
DTEND:20260424T210000Z
SUMMARY:[LNF26] Wie sehen LKWs und Traktoren heute und zukünftig aus?
DESCRIPTION:Aktuelle Lkw und Traktoren zeichnen sich durch leistungsstarke, effiziente Antriebe und intelligente Systeme aus. Wir entwickeln diese Technologien kontinuierlich weiter – von innovativen Antriebskonzepten über alternative Energieträger bis hin zu softwarebasierten Funktionen – und machen Nutzfahrzeuge damit noch effizienter, nachhaltiger und leistungsfähiger.
LOCATION:Im Stadtgut Zone E4, 4407 Steyr-Gleink
GEO:48.07525283;14.42745625
END:VEVENT
END:VCALENDAR