BEGIN:VCALENDAR
VERSION:2.0
PRODID:-//ERT//LNF26//DE
VERSION:2.0
BEGIN:VEVENT
UID:station_3890_20260324T160000Z
DTSTAMP:20260420T041900Z
URL:https://ert.langenachtderforschung.at/station/3890
DTSTART:20260324T160000Z
DTEND:20260424T210000Z
SUMMARY:[LNF26] Was zeichnet ein modernes Entwicklungszentrum für Nutzfahrzeuge aus?
DESCRIPTION:In der Fahrzeugentwicklung, Simulation und Messtechnik leisten wir einen zentralen Beitrag zur Weiterentwicklung moderner Nutzfahrzeuge. Mit leistungsstarken, zukunftsorientierten Prüfständen, spezialisierten Laboren sowie Elektrik- und Elektronikwerkstätten und Prototypenbereichen schaffen wir die Voraussetzungen, um innovative Lösungen zu entwickeln und unter realistischen Bedingungen zu prüfen.
LOCATION:Im Stadtgut Zone E4, 4407 Steyr-Gleink
GEO:48.07525283;14.42745625
END:VEVENT
END:VCALENDAR