BEGIN:VCALENDAR
VERSION:2.0
PRODID:-//ERT//LNF26//DE
VERSION:2.0
BEGIN:VEVENT
UID:station_3935_20260424T170000Z
DTSTAMP:20260420T003100Z
URL:https://ert.langenachtderforschung.at/station/3935
DTSTART:20260424T170000Z
DTEND:20260424T175000Z
SUMMARY:[LNF26] Wie baut man Moleküle?
DESCRIPTION:Wolltest du schon immer einmal wissen, wie man aus dem "Nichts" einen roten Farbstoff macht? Dann bist du in der Chemie-Vorlesung im Hörsaal H genau richtig. Chemiker Rolf Breinbauer erklärt, wie er Moleküle baut und führt ein Live-Experiment durch.
LOCATION:Kopernikusgasse 24, 8010 Graz
GEO:47.06494851;15.45095623
END:VEVENT
END:VCALENDAR