BEGIN:VCALENDAR
VERSION:2.0
PRODID:-//ERT//LNF26//DE
VERSION:2.0
BEGIN:VEVENT
UID:station_4007_20260324T160000Z
DTSTAMP:20260419T225400Z
URL:https://ert.langenachtderforschung.at/station/4007
DTSTART:20260324T160000Z
DTEND:20260424T200000Z
SUMMARY:[LNF26] Warum gilt der Pumpspeicher als zentrales Element moderner Energiespeicherung?
DESCRIPTION:Unsere interaktive Station eröffnet einen eindrucksvollen Blick in die Technologie der mehrstufigen Hochdruckpumpen – einer zentralen Komponente moderner und effizienter Energiespeichersysteme. Das anschauliche Modell zeigt, wie eine mehrstufige Pumpe aufgebaut ist und wie sie arbeitet.
LOCATION:Andritzer Reichsstraße 68B Halle F1 &amp; F3, 8045 Graz
GEO:47.10774894;15.41774109
END:VEVENT
END:VCALENDAR