BEGIN:VCALENDAR
VERSION:2.0
PRODID:-//ERT//LNF26//DE
VERSION:2.0
BEGIN:VEVENT
UID:station_4009_20260324T160000Z
DTSTAMP:20260419T210900Z
URL:https://ert.langenachtderforschung.at/station/4009
DTSTART:20260324T160000Z
DTEND:20260424T200000Z
SUMMARY:[LNF26] Wie wird Wasserkraft greifbar? Entdecken Sie es mit unserer Fertigungsstation!
DESCRIPTION:Tauchen Sie ein in die Welt der Wasserkraft mit unserer Fertigungsstation – wo Präzision auf Leidenschaft trifft! Technologien wie Fräsen und 3D-Druck ermöglichen die Erstellung von detaillierten Modellen, welche die faszinierende Komplexität und Schönheit der Wasserkraft veranschaulichen. Ideal für alle, die die Feinheiten und das Potenzial dieser erneuerbaren Energiequelle hautnah erleben möchten.
LOCATION:Andritzer Reichsstraße 68B Halle F1 &amp; F3, 8045 Graz
GEO:47.10774894;15.41774109
END:VEVENT
END:VCALENDAR