BEGIN:VCALENDAR
VERSION:2.0
PRODID:-//ERT//LNF26//DE
VERSION:2.0
BEGIN:VEVENT
UID:station_4011_20260324T160000Z
DTSTAMP:20260419T211000Z
URL:https://ert.langenachtderforschung.at/station/4011
DTSTART:20260324T160000Z
DTEND:20260424T200000Z
SUMMARY:[LNF26] Wie kann Wasser in einer Turbine „sieden“, ohne heiß zu sein?
DESCRIPTION:Im Mittelpunkt steht die faszinierende Welt der Pumpturbinen und insbesondere das Phänomen der Kavitation. Ein anschauliches Modell ermöglicht den Blick auf ein rotierendes Laufrad und macht die zugrunde liegenden physikalischen Prozesse sichtbar. Erleben Sie Turbinentechnik hautnah und gewinnen Sie spannende Einblicke in eine Schlüsseltechnologie für nachhaltige Energie.
LOCATION:Andritzer Reichsstraße 68B Halle F1 &amp; F3, 8045 Graz
GEO:47.10774894;15.41774109
END:VEVENT
END:VCALENDAR