BEGIN:VCALENDAR
VERSION:2.0
PRODID:-//ERT//LNF26//DE
VERSION:2.0
BEGIN:VEVENT
UID:station_4188_20260324T160000Z
DTSTAMP:20260420T020600Z
URL:https://ert.langenachtderforschung.at/station/4188
DTSTART:20260324T160000Z
DTEND:20260424T200000Z
SUMMARY:[LNF26] Raketenbau in Graz?
DESCRIPTION:Das Aerospace Team Graz (ASTG) bietet Studierenden seit 2019 die Möglichkeit, eine eigene Rakete zu bauen und an internationalen Wettbewerben teilzunehmen. Und dabei ist das Team sehr erfolgreich: Mit der Rakete ISPIDA wurde das ASTG letztes Jahr wieder Europameister! In Kooperation mit dem IWF Graz entwickelt das Team ein Experiment zur Erforschung von Polarlichtern.
LOCATION:Schmiedlstraße 6, 8042 Graz
GEO:47.04438960;15.47958542
END:VEVENT
END:VCALENDAR