BEGIN:VCALENDAR
VERSION:2.0
PRODID:-//ERT//LNF26//DE
VERSION:2.0
BEGIN:VEVENT
UID:station_4191_20260324T160000Z
DTSTAMP:20260420T003000Z
URL:https://ert.langenachtderforschung.at/station/4191
DTSTART:20260324T160000Z
DTEND:20260424T200000Z
SUMMARY:[LNF26] Wie angelt man sich einen Planeten?
DESCRIPTION:Diese Station lässt Kinderherzen höherschlagen. Ein eigener Hands-on-Bereich lädt zum Spielen und Experimentieren ein. Nebenbei erfährt man alles Wissenswerte über die Planeten in unserem Sonnensystem und das schützende Magnetfeld unserer Erde.
LOCATION:Schmiedlstraße 6, 8042 Graz
GEO:47.04438960;15.47958542
END:VEVENT
END:VCALENDAR