BEGIN:VCALENDAR
VERSION:2.0
PRODID:-//ERT//LNF26//DE
VERSION:2.0
BEGIN:VEVENT
UID:station_42_20260324T160000Z
DTSTAMP:20260422T221300Z
URL:https://ert.langenachtderforschung.at/station/42
DTSTART:20260324T160000Z
DTEND:20260424T204500Z
SUMMARY:[LNF26] Wie kommt mein Paket zu mir nach Hause? Städtischer Paketverkehr und seine Umweltauswirkungen auf dem Prüfstand
DESCRIPTION:Online bestellen ist praktisch: Kleidung, Bücher oder Essen kommen direkt zu uns. Dahinter stecken jedoch viele Fahrten – das belastet Umwelt und Stadt. Im FFG-Projekt „FAMOUS“ untersuchen wir den Paket- und Güterverkehr in Wiener Neustadt mit einem Simulationsmodell. Hier kann man selbst an diesem Modell schrauben und mit eigenen Augen sehen, wie umweltorientierte Maßnahmen Transportwege, CO₂ uvm. reduzieren können!
LOCATION:Johannes-Gutenberg-Straße 3 Innovation Lab und Area27 (J. Gutenberg-Straße 5), 2700 Wiener Neustadt
GEO:47.83811166;16.24962151
END:VEVENT
END:VCALENDAR