BEGIN:VCALENDAR
VERSION:2.0
PRODID:-//ERT//LNF26//DE
VERSION:2.0
BEGIN:VEVENT
UID:station_4221_20260324T160000Z
DTSTAMP:20260419T094600Z
URL:https://ert.langenachtderforschung.at/station/4221
DTSTART:20260324T160000Z
DTEND:20260424T210000Z
SUMMARY:[LNF26] Bewegt in die Ausbildung: Essential Movement
DESCRIPTION:Durchführung eines angeleiteten Bewegungsprogrammes durch ein Video im Umfang von 10 Minuten. Das Bewegungsprogramm fördert einerseits die koordinativen Fähigkeiten mittels Stabilisations- und Wahrnehmungsübungen und andererseits die konditionellen Fähigkeiten durch Kräftigungsübungen, Dehnungs- und Mobilisationsübungen.
LOCATION:Eduard-Wallnöfer-Zentrum 1, 6060 Hall in Tirol
GEO:47.28386550;11.51740640
END:VEVENT
END:VCALENDAR