BEGIN:VCALENDAR
VERSION:2.0
PRODID:-//ERT//LNF26//DE
VERSION:2.0
BEGIN:VEVENT
UID:station_4310_20260424T180000Z
DTSTAMP:20260420T020800Z
URL:https://ert.langenachtderforschung.at/station/4310
DTSTART:20260424T180000Z
DTEND:20260424T183000Z
SUMMARY:[LNF26] Spannung im Badezimmer – Was passiert, wenn der Föhn in die Badewanne fällt?
DESCRIPTION:Mit ihrer Show haben die Elektrotechniker Daniel Herbst und Martin Fürnschuss schon das Publikum beim Science Slam rundum überzeugt. Für die Lange Nacht der Forschung haben sie ihre Badewanne jetzt in den Hörsaal BMT gezogen und demonstrieren, was denn da so genau passiert, wenn ein Föhn in eine Badewanne fällt. Oder eher: Was besser nicht passieren sollte.
LOCATION:Stremayrgasse 16, 8010 Graz
GEO:47.06503320;15.45223260
END:VEVENT
END:VCALENDAR