BEGIN:VCALENDAR
VERSION:2.0
PRODID:-//ERT//LNF26//DE
VERSION:2.0
BEGIN:VEVENT
UID:station_4394_20260324T163000Z
DTSTAMP:20260420T003700Z
URL:https://ert.langenachtderforschung.at/station/4394
DTSTART:20260324T163000Z
DTEND:20260424T203000Z
SUMMARY:[LNF26] Können wir die Sonne nachbauen? und andere Fragen - Eine spielerische Entdeckung durch Experiment und eigene Simulationen am Computer
DESCRIPTION:Im Inneren der Sonne verschmelzen Wasserstoff-Atome und setzen dabei unglaubliche Mengen an Energie frei. Um diesen Prozess auf der Erde nachzubilden, ist ein tiefes Verständnis der zugrundeliegenden Physik erforderlich. Wie interagieren Elementarteilchen? Wie beeinflussen elektromagnetische Felder ihre Flugbahnen? Wie wird Energie von einer Form in eine andere umgewandelt?
LOCATION:Petersgasse 16, 8010 Graz
GEO:47.06471510;15.45423470
END:VEVENT
END:VCALENDAR