BEGIN:VCALENDAR
VERSION:2.0
PRODID:-//ERT//LNF26//DE
VERSION:2.0
BEGIN:VEVENT
UID:station_44_20260324T160000Z
DTSTAMP:20260422T221300Z
URL:https://ert.langenachtderforschung.at/station/44
DTSTART:20260324T160000Z
DTEND:20260424T210000Z
SUMMARY:[LNF26] Maker Mania – Was erwartet dich in der fantastischen Welt des Makerspace?
DESCRIPTION:Interessent*innen haben die Möglichkeit bei spannenden Führungen durchs Innovation Lab mitzumachen, einen eigenen Schlüsselanhänger zu basteln und bei diversen Spielen die eigene Geschicklichkeit unter Beweis zu stellen. Dabei können die vielfältigen Bereiche unseres Makerspaces erkundet werden. Taucht ein in die faszinierende Welt des Makings und entfachen wir gemeinsam eure neue Leidenschaft!
LOCATION:Johannes-Gutenberg-Straße 3 Innovation Lab und Area27 (J. Gutenberg-Straße 5), 2700 Wiener Neustadt
GEO:47.83811166;16.24962151
END:VEVENT
END:VCALENDAR