BEGIN:VCALENDAR
VERSION:2.0
PRODID:-//ERT//LNF26//DE
VERSION:2.0
BEGIN:VEVENT
UID:station_4400_20260324T160000Z
DTSTAMP:20260420T210900Z
URL:https://ert.langenachtderforschung.at/station/4400
DTSTART:20260324T160000Z
DTEND:20260424T210000Z
SUMMARY:[LNF26] Mobile Info Personen in den Ausstellungen
DESCRIPTION:Unsere Kulturvermittler:innen informieren in den Ausstellungen
LOCATION:Kulturbezirk 5, 3100 St. Pölten
GEO:48.20026944;15.63139111
END:VEVENT
END:VCALENDAR