BEGIN:VCALENDAR
VERSION:2.0
PRODID:-//ERT//LNF26//DE
VERSION:2.0
BEGIN:VEVENT
UID:station_4415_20260424T200000Z
DTSTAMP:20260420T003500Z
URL:https://ert.langenachtderforschung.at/station/4415
DTSTART:20260424T200000Z
DTEND:20260424T210000Z
SUMMARY:[LNF26] Wie klein ist eigentlich Nano?
DESCRIPTION:Einen Blick in die Nanowelt kannst du am Institut für Elektronenmikroskopie und Nanoanalytik (FELMI) werfen. Lerne die leistungsstärksten Elektronenmikroskope der TU Graz kennen, mit denen Wissenschafter:innen detailreiche Aufnahmen von alltäglichen Dingen wie z.B. Staubkörnern, Betonproben oder Weinstein machen.
LOCATION:Steyrergasse 17, 8010 Graz
GEO:47.06391610;15.45324900
END:VEVENT
END:VCALENDAR