BEGIN:VCALENDAR
VERSION:2.0
PRODID:-//ERT//LNF26//DE
VERSION:2.0
BEGIN:VEVENT
UID:station_4438_20260324T160000Z
DTSTAMP:20260420T034000Z
URL:https://ert.langenachtderforschung.at/station/4438
DTSTART:20260324T160000Z
DTEND:20260424T204500Z
SUMMARY:[LNF26] Anton Paar in Bewegung – Zeit, etwas zu bewegen?
DESCRIPTION:Anton Paar in Bewegung ist mehr als nur die betriebliche Gesundheitsförderung von Anton Paar. Zwischen Messtechnik, Forschung und Co. bieten wir unseren Kolleginnen und Kollegen Angebote für ihre körperliche sowie mentale Gesundheit. Besuchen Sie uns, lernen Sie Anton Paar in Bewegung und unsere zahlreichen Aktivitäten näher kennen.
LOCATION:Anton-Paar-Straße 20, 8054 Graz
GEO:47.03112409;15.40448964
END:VEVENT
END:VCALENDAR