BEGIN:VCALENDAR
VERSION:2.0
PRODID:-//ERT//LNF26//DE
VERSION:2.0
BEGIN:VEVENT
UID:station_4449_20260424T173000Z
DTSTAMP:20260420T033900Z
URL:https://ert.langenachtderforschung.at/station/4449
DTSTART:20260424T173000Z
DTEND:20260424T175500Z
SUMMARY:[LNF26] Da braut sich was zusammen - Wie entsteht das &#34;best vermessene Craftbier der Welt&#34;?
DESCRIPTION:Die Braumeister führen Sie persönlich durch die Schaubrauerei und zeigen, wie das "best vermessene Craftbier der Welt" gebraut wird und was Präzision mit Braukunst zu tun hat.
LOCATION:Anton-Paar-Straße 20, 8054 Graz
GEO:47.03112409;15.40448964
END:VEVENT
END:VCALENDAR