BEGIN:VCALENDAR
VERSION:2.0
PRODID:-//ERT//LNF26//DE
VERSION:2.0
BEGIN:VEVENT
UID:station_4475_20260324T160000Z
DTSTAMP:20260420T003000Z
URL:https://ert.langenachtderforschung.at/station/4475
DTSTART:20260324T160000Z
DTEND:20260424T204500Z
SUMMARY:[LNF26] Great people | Great instruments - Bereit für ein Talent-Abenteuer?
DESCRIPTION:Erleben Sie in unserem Career Corner die perfekte Kombination aus CV-Screening und individuellen Gesprächen – ein Talenttalk der besonderen Art! Optimieren Sie Ihren Lebenslauf, erhalten Sie nützliche Tipps und tauschen Sie sich mit unseren Expertinnen und Experten aus, um berufliche Wege bei Anton Paar zu erkunden.
LOCATION:Anton-Paar-Straße 20, 8054 Graz
GEO:47.03112409;15.40448964
END:VEVENT
END:VCALENDAR