BEGIN:VCALENDAR
VERSION:2.0
PRODID:-//ERT//LNF26//DE
VERSION:2.0
BEGIN:VEVENT
UID:station_4479_20260424T193000Z
DTSTAMP:20260420T034100Z
URL:https://ert.langenachtderforschung.at/station/4479
DTSTART:20260424T193000Z
DTEND:20260424T195500Z
SUMMARY:[LNF26] Das Anton Paar-Technologiezentrum - neugierig auf ein einzigartiges Energiekonzept?
DESCRIPTION:Das im Dezember 2023 eröffnete Technologiezentrum wurde mit einem einzigartigen Energiekonzept gebaut. Ziel war es, durch innovative und umweltfreundliche Technologien ein weltweiter Vorreiter für die Gestaltung energieeffizienter Gebäude zu sein. Wir verraten Ihnen, wie diese Konzept umgesetzt wurde, welche Innovationen darin stecken und was ein sogenanntes "Eis-Energiespeicher-System" eigentlich macht.
LOCATION:Anton-Paar-Straße 20, 8054 Graz
GEO:47.03112409;15.40448964
END:VEVENT
END:VCALENDAR