BEGIN:VCALENDAR
VERSION:2.0
PRODID:-//ERT//LNF26//DE
VERSION:2.0
BEGIN:VEVENT
UID:station_4486_20260424T193000Z
DTSTAMP:20260420T003200Z
URL:https://ert.langenachtderforschung.at/station/4486
DTSTART:20260424T193000Z
DTEND:20260424T202000Z
SUMMARY:[LNF26] Wie kommt das Flugzeug in den Hörsaal?
DESCRIPTION:Einsteigen und Abheben - die Physiker der TU Graz zeigen Dir gemeinsam mit der AKAFLIEG wie ein Flugzeug im Hörsaal landet, wieso es überhaupt in die Luft kommt und was es noch Spannendes rund um das Thema Fliegen zu entdecken gibt. Und vielleicht fliegt dann etwas durch den Hörsaal… wir sind gespannt!
LOCATION:Petersgasse 16, 8010 Graz
GEO:47.06471510;15.45423470
END:VEVENT
END:VCALENDAR