BEGIN:VCALENDAR
VERSION:2.0
PRODID:-//ERT//LNF26//DE
VERSION:2.0
BEGIN:VEVENT
UID:station_4494_20260324T160000Z
DTSTAMP:20260420T145400Z
URL:https://ert.langenachtderforschung.at/station/4494
DTSTART:20260324T160000Z
DTEND:20260424T210000Z
SUMMARY:[LNF26] Wie unterstützt der Kohlenstoffkreislauf das Leben auf der Erde?
DESCRIPTION:An der Station der Erdwissenschaften erfahren Sie anhand verschiedener Gesteine und Fossilien, wie Kohlenstoffmineralien Aufschluss über die Vergangenheit der Erde geben. Diese können eine Vielzahl unterschiedlicher Formen annehmen. Dazu zählen etwa Diamanten, Korallen, Öl, Kohle und Marmor. Sie zeigen, wie sich der Kohlenstoffkreislauf seit der Entstehung unseres Planeten bis heute entwickelt hat.
LOCATION:Universitätsplatz 3a, 8010 Graz
GEO:47.07805140;15.45052973
END:VEVENT
END:VCALENDAR