BEGIN:VCALENDAR
VERSION:2.0
PRODID:-//ERT//LNF26//DE
VERSION:2.0
BEGIN:VEVENT
UID:station_4495_20260324T160000Z
DTSTAMP:20260420T132500Z
URL:https://ert.langenachtderforschung.at/station/4495
DTSTART:20260324T160000Z
DTEND:20260424T210000Z
SUMMARY:[LNF26] Was hat die Uni Graz mit Eisbären zu tun?
DESCRIPTION:Mit der Polarforschungsstation Sermilik an der Ostküste Grönlands hat die Uni Graz ihren Stützpunkt in der Arktis. Mit welchen Fragen sich Wissenschaftler:innen und Studierende dort befassen, wie sie im Hohen Norden arbeiten und leben, erfahren Sie in der Langen Nacht der Forschung am Campus der Uni Graz. Ein 3D-Modell der Station, Fotos, Videos und Berichte aus erster Hand geben spannende Einblicke.
LOCATION:Universitätsplatz 3a, 8010 Graz
GEO:47.07805140;15.45052973
END:VEVENT
END:VCALENDAR