BEGIN:VCALENDAR
VERSION:2.0
PRODID:-//ERT//LNF26//DE
VERSION:2.0
BEGIN:VEVENT
UID:station_4529_20260324T160000Z
DTSTAMP:20260420T003000Z
URL:https://ert.langenachtderforschung.at/station/4529
DTSTART:20260324T160000Z
DTEND:20260424T204500Z
SUMMARY:[LNF26] Talentiert. Neugierig. Begeistert – Wo wird Ausbildung zum Erlebnis voller Technik, Kreativität und Praxis?
DESCRIPTION:Für uns ist die Lehre mehr als eine Berufsausbildung. Unsere angehenden Fachkräfte sind das Fundament auf dem unser Unternehmenserfolg aufbaut. Bei der Langen Nacht der Forschung stellen sie sich vor und präsentieren wissenschaftliche, technische und kreative Projekte, die sie in ihrer Lehrzeit entwickelt und gebaut haben. Für kleine Entdeckerinnen und Entdecker gibt es einen spaßigen Einblick in die Elektronik.
LOCATION:Anton-Paar-Straße 20, 8054 Graz
GEO:47.03112409;15.40448964
END:VEVENT
END:VCALENDAR