BEGIN:VCALENDAR
VERSION:2.0
PRODID:-//ERT//LNF26//DE
VERSION:2.0
BEGIN:VEVENT
UID:station_4535_20260324T160000Z
DTSTAMP:20260424T102500Z
URL:https://ert.langenachtderforschung.at/station/4535
DTSTART:20260324T160000Z
DTEND:20260424T210000Z
SUMMARY:[LNF26] Kommt dir das Chinesisch vor?
DESCRIPTION:Die Reise "In acht Stationen um die Welt" führt für Kinder auch ins Reich der Mitte. Sie erhalten einen Einblick in die Sprache, lernen einfache Wörter und Sätze und bekommen ihren eigenen chinesischen Namen. Selbst geknüpfte Glücksknoten können sie als Erinnerung oder Geschenk mit nach Hause nehmen. Eine Station der KinderUniGraz in Kooperation mit dem Konfuzius-Institut der Uni Graz.
LOCATION:Universitätsplatz 3a, 8010 Graz
GEO:47.07805140;15.45052973
END:VEVENT
END:VCALENDAR