BEGIN:VCALENDAR
VERSION:2.0
PRODID:-//ERT//LNF26//DE
VERSION:2.0
BEGIN:VEVENT
UID:station_4537_20260324T160000Z
DTSTAMP:20260420T150900Z
URL:https://ert.langenachtderforschung.at/station/4537
DTSTART:20260324T160000Z
DTEND:20260424T210000Z
SUMMARY:[LNF26] Wie geht es der Demokratie?
DESCRIPTION:Freie Wahlen, Mitbestimmung oder der Gleichheitsgrundsatz sind Merkmale einer Demokratie. Wie ist es um diese Regierungsform in der Welt bestellt? Leider nicht gut. Autokratische Regime sind international in der Mehrheit. Wie es den Bürger:innen in den unterschiedlichen Ländern ergeht, wie die Lage in Österreich ist und welche Reformideen Wissenschaft und Bevölkerung haben, erfahren Sie an der Mitmach-Station.
LOCATION:Universitätsplatz 3a, 8010 Graz
GEO:47.07805140;15.45052973
END:VEVENT
END:VCALENDAR