BEGIN:VCALENDAR
VERSION:2.0
PRODID:-//ERT//LNF26//DE
VERSION:2.0
BEGIN:VEVENT
UID:station_4539_20260324T160000Z
DTSTAMP:20260420T145400Z
URL:https://ert.langenachtderforschung.at/station/4539
DTSTART:20260324T160000Z
DTEND:20260424T210000Z
SUMMARY:[LNF26] Wo wird man besonders alt und wie?
DESCRIPTION:In manchen Ländern, beispielsweise in Japan, leben Menschen außergewöhnlich lang. Was ist das Geheimnis dahinter? Und wie können wir in Österreich an die 100 werden? Grazer Forscher:innen untersuchen den Zusammenhang zwischen Ernährung, Stoffwechsel und Lebensstil, um diese Fragen zu beantworten. Was Sie für Ihre langanhaltende Gesundheit tun können und was reine Mythen sind, zeigt Ihnen die Station.
LOCATION:Universitätsplatz 3a, 8010 Graz
GEO:47.07805140;15.45052973
END:VEVENT
END:VCALENDAR