BEGIN:VCALENDAR
VERSION:2.0
PRODID:-//ERT//LNF26//DE
VERSION:2.0
BEGIN:VEVENT
UID:station_4572_20260424T160000Z
DTSTAMP:20260420T020500Z
URL:https://ert.langenachtderforschung.at/station/4572
DTSTART:20260424T160000Z
DTEND:20260424T170000Z
SUMMARY:[LNF26] Wie entsteht ein Ton bei Holz- und Blechblasinstrumenten? (18:00)
DESCRIPTION:Selbstbau von Blasinstrumenten und Experimente \nKinderUniGraz\nWorkshop mit David Gasche
LOCATION:Leonhardstraße 19 Probebühne, 8010 Graz
GEO:47.07245350;15.45048685
END:VEVENT
END:VCALENDAR