BEGIN:VCALENDAR
VERSION:2.0
PRODID:-//ERT//LNF26//DE
VERSION:2.0
BEGIN:VEVENT
UID:station_4576_20260424T180000Z
DTSTAMP:20260420T020400Z
URL:https://ert.langenachtderforschung.at/station/4576
DTSTART:20260424T180000Z
DTEND:20260424T190000Z
SUMMARY:[LNF26] Tanzen, oder nicht Tanzen - das ist hier die Frage! (20:00 Uhr)
DESCRIPTION:In diesem lecture-workshop geht es darum, welche Musik wir gut zum Tanzen finden, bei welcher Musik wir lieber still sitzen und zuhören, und was soziale Konventionen damit zu tun haben. Mitmachen erwünscht! Vortrag & Workshop: Kendra Stepputat
LOCATION:Leonhardstraße 19 Probebühne, 8010 Graz
GEO:47.07245350;15.45048685
END:VEVENT
END:VCALENDAR