BEGIN:VCALENDAR
VERSION:2.0
PRODID:-//ERT//LNF26//DE
VERSION:2.0
BEGIN:VEVENT
UID:station_4580_20260424T153000Z
DTSTAMP:20260423T235500Z
URL:https://ert.langenachtderforschung.at/station/4580
DTSTART:20260424T153000Z
DTEND:20260424T163000Z
SUMMARY:[LNF26] Wie vermisst man Weltraumschrott?
DESCRIPTION:Das IWF der ÖAW betreibt seit 1982 am Observatorium Lustbühel eine der genauesten Laserstationen. In einem Kurzvortrag erfahren Sie, wie mit Lasern die Entfernungen zu Satelliten (Millimeter-Genauigkeit) und Weltraumschrott (ca. 1 m) gemessen werden kann und für was mas das überhaupt macht. Im Anschluss besteht die Möglichkeit sich direkt mit den Forschenden zu unterhalten und Fragen zu stellen.
LOCATION:Lustbühelstraße 46, 8042 Graz
GEO:47.06702390;15.49353233
END:VEVENT
END:VCALENDAR