BEGIN:VCALENDAR
VERSION:2.0
PRODID:-//ERT//LNF26//DE
VERSION:2.0
BEGIN:VEVENT
UID:station_4586_20260424T190000Z
DTSTAMP:20260424T000200Z
URL:https://ert.langenachtderforschung.at/station/4586
DTSTART:20260424T190000Z
DTEND:20260424T200000Z
SUMMARY:[LNF26] Warum ziele ich mit einem Laser auf Satelliten?
DESCRIPTION:Vom Observatorium am Grazer Lustbühel zielt ein grüner Laser auf vorbeiziehende Satelliten – für die Satelliten-Laserentfernungsmessung mit Millimeterpräzision. Warum diese exakten Distanzen für Geodäsie und Satellitennavigation wichtig sind und wie die Messung funktioniert, erklären Ihnen ÖAW-Weltraumforschende bei Führungen in der Laser-Kuppel.
LOCATION:Lustbühelstraße 46, 8042 Graz
GEO:47.06702390;15.49353233
END:VEVENT
END:VCALENDAR