BEGIN:VCALENDAR
VERSION:2.0
PRODID:-//ERT//LNF26//DE
VERSION:2.0
BEGIN:VEVENT
UID:station_46_20260324T160000Z
DTSTAMP:20260422T221300Z
URL:https://ert.langenachtderforschung.at/station/46
DTSTART:20260324T160000Z
DTEND:20260424T204500Z
SUMMARY:[LNF26] Wie werden meine Muskeln beim Sport mit Sauerstoff versorgt?
DESCRIPTION:Der oxidative Stoffwechsel ist bei sportlichen Belastungen ab einer Zeitdauer von etwa zwei Minuten die dominante Quelle der Energiebereitstellung. Mittels Nahinfrarotspektroskopie kann die Sauerstoffextraktion im Muskel gemessen werden. Wie das aussieht, sehen wir uns gemeinsam an!
LOCATION:Johannes-Gutenberg-Straße 3 Innovation Lab und Area27 (J. Gutenberg-Straße 5), 2700 Wiener Neustadt
GEO:47.83811166;16.24962151
END:VEVENT
END:VCALENDAR