BEGIN:VCALENDAR
VERSION:2.0
PRODID:-//ERT//LNF26//DE
VERSION:2.0
BEGIN:VEVENT
UID:station_4602_20260324T160000Z
DTSTAMP:20260420T033800Z
URL:https://ert.langenachtderforschung.at/station/4602
DTSTART:20260324T160000Z
DTEND:20260424T210000Z
SUMMARY:[LNF26] Wie werden Stofftiere wieder gesund? Die Kuscheltierklinik
DESCRIPTION:In der Kuscheltierklinik übernehmen Kinder die Rolle von Ärzt:innen und versorgen unter Anleitung der Teddy-Docs ihre kuscheligen Patient:innen. Spielerisch lernen sie so den Ablauf eines Besuches beim Arzt/bei einer Ärztin kennen. Eine einzigartige Gelegenheit für junge angehende Mediziner:innen, Vertrauen und Verständnis für medizinische Behandlungen zu entwickeln. (KinderUniGraz)
LOCATION:Neue Stiftingtalstraße 6 (Aula und Hörsäle im Erdgeschoss), 8010 Graz
GEO:47.08049167;15.46980679
END:VEVENT
END:VCALENDAR