BEGIN:VCALENDAR
VERSION:2.0
PRODID:-//ERT//LNF26//DE
VERSION:2.0
BEGIN:VEVENT
UID:station_4615_20260324T160000Z
DTSTAMP:20260421T144200Z
URL:https://ert.langenachtderforschung.at/station/4615
DTSTART:20260324T160000Z
DTEND:20260424T210000Z
SUMMARY:[LNF26] Viele Daten, wenig Zeit: Wie hilft der SCC?
DESCRIPTION:Wie verhalten sich Gebirge? Wie funktionieren Tumorzellen? Was passiert im Gehirn? Für solche Fragen braucht Forschung enorme Rechenleistung. Mit dem SCC verfügt die Universität Salzburg nun über eine leistungsfähige Infrastruktur dafür. An dieser Station erhältst du Einblicke in die Technik hinter dem SCC und entdeckst, welche wissenschaftlichen Anwendungen und Analysen damit möglich werden.
LOCATION:Erzabt-Klotz-Straße 1 Unipark, 5020 Salzburg
GEO:47.79478290;13.05415970
END:VEVENT
END:VCALENDAR