BEGIN:VCALENDAR
VERSION:2.0
PRODID:-//ERT//LNF26//DE
VERSION:2.0
BEGIN:VEVENT
UID:station_4618_20260324T160000Z
DTSTAMP:20260421T144000Z
URL:https://ert.langenachtderforschung.at/station/4618
DTSTART:20260324T160000Z
DTEND:20260424T210000Z
SUMMARY:[LNF26] Wie entstehen die schillernden Farben der Natur?
DESCRIPTION:Warum schimmern Schmetterlinge, Käfer oder Pfauenfedern so farbenprächtig – ganz ohne Farbstoffe? An der Mitmach-Station erfährst du, wie Licht an winzigen Strukturen gebrochen und gestreut wird. Du kannst selbst experimentieren, farbige Effekte erzeugen und unter dem Mikroskop entdecken, wie physikalische Strukturen Farben entstehen lassen.
LOCATION:Erzabt-Klotz-Straße 1 Unipark, 5020 Salzburg
GEO:47.79478290;13.05415970
END:VEVENT
END:VCALENDAR