BEGIN:VCALENDAR
VERSION:2.0
PRODID:-//ERT//LNF26//DE
VERSION:2.0
BEGIN:VEVENT
UID:station_4621_20260324T160000Z
DTSTAMP:20260421T143700Z
URL:https://ert.langenachtderforschung.at/station/4621
DTSTART:20260324T160000Z
DTEND:20260424T210000Z
SUMMARY:[LNF26] Welche Geschichte erzählt dein T-Shirt?
DESCRIPTION:Der Fachbereich Soziologie & Sozialgeographie zeigt am Beispiel T-Shirt, wie ein Alltagsprodukt globale Räume, (un)bezahlte Arbeit und Fragen der Nachhaltigkeit verbindet. Du durchläufst einen Parcours zu Lieferketten und entdeckst Bezüge zu Konsum- und Arbeitswelten. Im Datenlabor und beim Live-Podcast kannst du mitmachen: Daten entstehen vor Ort, werden visualisiert und gemeinsam gedeutet.
LOCATION:Erzabt-Klotz-Straße 1 Unipark, 5020 Salzburg
GEO:47.79478290;13.05415970
END:VEVENT
END:VCALENDAR