BEGIN:VCALENDAR
VERSION:2.0
PRODID:-//ERT//LNF26//DE
VERSION:2.0
BEGIN:VEVENT
UID:station_4699_20260324T160000Z
DTSTAMP:20260419T225400Z
URL:https://ert.langenachtderforschung.at/station/4699
DTSTART:20260324T160000Z
DTEND:20260424T200000Z
SUMMARY:[LNF26] Wie bewegt Technik Wasser? Pumpenprüfstand live erleben!
DESCRIPTION:Hier dreht sich alles um Wasser und Bewegung! An einem kompakten Prüfstand mit durchsichtigem Spiralgehäuse wird sichtbar, wie ein Pumpenlaufrad arbeitet – dank Stroboskop fast wie in Zeitlupe. Besucher:innen können selbst ausprobieren, wie sich Drehzahl, Vordruck oder Durchflussmenge auf die Förderhöhe auswirken. Anschaulich erklärt wird dabei, wie eine Pumpe funktioniert – Technik zum Mitmachen für Groß und Klein.
LOCATION:Andritzer Reichsstraße 68B Halle F1 &amp; F3, 8045 Graz
GEO:47.10774894;15.41774109
END:VEVENT
END:VCALENDAR