BEGIN:VCALENDAR
VERSION:2.0
PRODID:-//ERT//LNF26//DE
VERSION:2.0
BEGIN:VEVENT
UID:station_47_20260324T160000Z
DTSTAMP:20260422T221400Z
URL:https://ert.langenachtderforschung.at/station/47
DTSTART:20260324T160000Z
DTEND:20260424T204500Z
SUMMARY:[LNF26] Wie kann man Ergotherapie (be)greifbar machen?
DESCRIPTION:Unsere Besucher:innen erhalten unterschiedliche Einblicke, welche Möglichkeiten Ergotherapie bietet. Die Stationen "Superpower trotz Handicap", "Ergo-Detektive" und "Ran an den "Stift" laden Jung und Alt zum Ausprobieren ein!
LOCATION:Johannes-Gutenberg-Straße 3 Innovation Lab und Area27 (J. Gutenberg-Straße 5), 2700 Wiener Neustadt
GEO:47.83811166;16.24962151
END:VEVENT
END:VCALENDAR